BEGIN:VCALENDAR
VERSION:2.0
PRODID:-//Genacross Lutheran Services - ECPv6.15.17//NONSGML v1.0//EN
CALSCALE:GREGORIAN
METHOD:PUBLISH
X-WR-CALNAME:Genacross Lutheran Services
X-ORIGINAL-URL:https://genacrosslutheranservices.org
X-WR-CALDESC:Events for Genacross Lutheran Services
REFRESH-INTERVAL;VALUE=DURATION:PT1H
X-Robots-Tag:noindex
X-PUBLISHED-TTL:PT1H
BEGIN:VTIMEZONE
TZID:America/New_York
BEGIN:DAYLIGHT
TZOFFSETFROM:-0500
TZOFFSETTO:-0400
TZNAME:EDT
DTSTART:20240310T070000
END:DAYLIGHT
BEGIN:STANDARD
TZOFFSETFROM:-0400
TZOFFSETTO:-0500
TZNAME:EST
DTSTART:20241103T060000
END:STANDARD
BEGIN:DAYLIGHT
TZOFFSETFROM:-0500
TZOFFSETTO:-0400
TZNAME:EDT
DTSTART:20250309T070000
END:DAYLIGHT
BEGIN:STANDARD
TZOFFSETFROM:-0400
TZOFFSETTO:-0500
TZNAME:EST
DTSTART:20251102T060000
END:STANDARD
BEGIN:DAYLIGHT
TZOFFSETFROM:-0500
TZOFFSETTO:-0400
TZNAME:EDT
DTSTART:20260308T070000
END:DAYLIGHT
BEGIN:STANDARD
TZOFFSETFROM:-0400
TZOFFSETTO:-0500
TZNAME:EST
DTSTART:20261101T060000
END:STANDARD
END:VTIMEZONE
BEGIN:VEVENT
DTSTART;TZID=America/New_York:20251010T110000
DTEND;TZID=America/New_York:20251010T130000
DTSTAMP:20260420T161306
CREATED:20251006T185217Z
LAST-MODIFIED:20251006T185445Z
UID:10000016-1760094000-1760101200@genacrosslutheranservices.org
SUMMARY:Chili Cook-Off 2025
DESCRIPTION:Chili Cook-Off\n\nPublic and staff entries welcomed.\nGuest judges will recognize the best chili.\nPrizes will be awarded.\nAs a thank you\, Emergency Responders receive free lunch.\n\n$3 donation buys a flight of chili tastings.\nTry the winning chili! \n\n\n \nNAPOLEON CAMPUS CHAPEL \n1036 S. Perry Street\, Napoleon\, Ohio 435452001 \nQuestions? Call Joanna at 419.591.4075.
URL:https://genacrosslutheranservices.org/event/chili-cook-off-2025/
LOCATION:Napoleon Campus\, 1036 S. Perry Street\, Napoleon\, OH\, 43545\, United States
CATEGORIES:Napoleon Campus
ATTACH;FMTTYPE=image/jpeg:https://genacrosslutheranservices.org/wp-content/uploads/2025/10/GLS-016-Chili-Cookoff-Social_FA.jpg
END:VEVENT
BEGIN:VEVENT
DTSTART;TZID=America/New_York:20251023T173000
DTEND;TZID=America/New_York:20251023T190000
DTSTAMP:20260420T161306
CREATED:20251006T192625Z
LAST-MODIFIED:20251006T192625Z
UID:10000017-1761240600-1761246000@genacrosslutheranservices.org
SUMMARY:Tricks & Treats Event
DESCRIPTION:All monsters\, witches\, ghosts & goblins.. you have been summoned to join us for haunting evening.\nAnticipating a beautiful fall evening\, families will be trick-or-treating outside our campus\, starting at the Health Center’s Pineview entrance. \nAfterward\, stop by the chapel for cider and treats. \nFree and open to the community. \n  \n \nWOLF CREEK CAMPUS \n2001 Perrysburg Holland Road\, Holland\, Ohio
URL:https://genacrosslutheranservices.org/event/tricks-treats-event/
LOCATION:Wolf Creek Campus\, 2001 Perrysburg Holland Road\, Holland\, OH\, 43528\, United States
CATEGORIES:Wolf Creek Campus
ATTACH;FMTTYPE=image/jpeg:https://genacrosslutheranservices.org/wp-content/uploads/2025/10/GLS-016-Halloween-Social_FA.jpg
END:VEVENT
BEGIN:VEVENT
DTSTART;TZID=America/New_York:20251028T180000
DTEND;TZID=America/New_York:20251028T190000
DTSTAMP:20260420T161306
CREATED:20241004T185830Z
LAST-MODIFIED:20251006T191146Z
UID:10000007-1761674400-1761678000@genacrosslutheranservices.org
SUMMARY:Trick or Treat 2025
DESCRIPTION:Join us for our annual Trick or Treat event!\nIt will be a ghoulishly good time… \nOpen to the community! \nFamilies will enter through the Health Center’s main entrance and walk through the building and then exit through the Alpine Village entrance. \n \nNAPOLEON CAMPUS \n1036 S. Perry Street\, Napoleon\, Ohio
URL:https://genacrosslutheranservices.org/event/trick-or-treat-2025/
LOCATION:Napoleon Campus\, 1036 S. Perry Street\, Napoleon\, OH\, 43545\, United States
CATEGORIES:Napoleon Campus
ATTACH;FMTTYPE=image/jpeg:https://genacrosslutheranservices.org/wp-content/uploads/2024/10/GLS-016-Trick-or-Treat-Social.jpg
END:VEVENT
END:VCALENDAR