BEGIN:VCALENDAR
VERSION:2.0
PRODID:-//Genacross Lutheran Services - ECPv6.15.17//NONSGML v1.0//EN
CALSCALE:GREGORIAN
METHOD:PUBLISH
X-WR-CALNAME:Genacross Lutheran Services
X-ORIGINAL-URL:https://genacrosslutheranservices.org
X-WR-CALDESC:Events for Genacross Lutheran Services
REFRESH-INTERVAL;VALUE=DURATION:PT1H
X-Robots-Tag:noindex
X-PUBLISHED-TTL:PT1H
BEGIN:VTIMEZONE
TZID:America/New_York
BEGIN:DAYLIGHT
TZOFFSETFROM:-0500
TZOFFSETTO:-0400
TZNAME:EDT
DTSTART:20240310T070000
END:DAYLIGHT
BEGIN:STANDARD
TZOFFSETFROM:-0400
TZOFFSETTO:-0500
TZNAME:EST
DTSTART:20241103T060000
END:STANDARD
BEGIN:DAYLIGHT
TZOFFSETFROM:-0500
TZOFFSETTO:-0400
TZNAME:EDT
DTSTART:20250309T070000
END:DAYLIGHT
BEGIN:STANDARD
TZOFFSETFROM:-0400
TZOFFSETTO:-0500
TZNAME:EST
DTSTART:20251102T060000
END:STANDARD
BEGIN:DAYLIGHT
TZOFFSETFROM:-0500
TZOFFSETTO:-0400
TZNAME:EDT
DTSTART:20260308T070000
END:DAYLIGHT
BEGIN:STANDARD
TZOFFSETFROM:-0400
TZOFFSETTO:-0500
TZNAME:EST
DTSTART:20261101T060000
END:STANDARD
END:VTIMEZONE
BEGIN:VEVENT
DTSTART;TZID=America/New_York:20250909T170000
DTEND;TZID=America/New_York:20250909T190000
DTSTAMP:20260420T222302
CREATED:20250708T194653Z
LAST-MODIFIED:20250708T195100Z
UID:10000012-1757437200-1757444400@genacrosslutheranservices.org
SUMMARY:Cruisin' Zeake's Car Show
DESCRIPTION:Everyone welcome for this free spectator event! \nThe event includes: \n\nGreat cars to view!\nGas card drawing for registered drivers\,\n50/50 raffle\,\nFood trucks\,\nBounce house\,\nGames\,\nGreat oldies classics with Cruisin’ Zeake\n\nRain Date is Wednesday\, September 10\, 2025 \nFor more information on being in the car show\, contact Zeake at 419.509.5066.
URL:https://genacrosslutheranservices.org/event/crusin-zekes-car-show/
LOCATION:Wolf Creek Campus\, 2001 Perrysburg Holland Road\, Holland\, OH\, 43528\, United States
CATEGORIES:Wolf Creek Campus
ATTACH;FMTTYPE=image/jpeg:https://genacrosslutheranservices.org/wp-content/uploads/2025/07/GLS-016-Car-Show-EventCal.jpg
END:VEVENT
BEGIN:VEVENT
DTSTART;TZID=America/New_York:20250919T090000
DTEND;TZID=America/New_York:20250919T150000
DTSTAMP:20260420T222302
CREATED:20250904T192009Z
LAST-MODIFIED:20250904T192413Z
UID:10000014-1758272400-1758294000@genacrosslutheranservices.org
SUMMARY:Art on the Street
DESCRIPTION:Art on the Street is a two-day event. \nFriday\, September 19\n9 a.m. – 3 p.m. \nChalk art begins ($5 per parking space) \nConcert on the Lawn\n10-11 a.m. Abbigale Abbot \nVendors \nSoaring Arts Studio \nBalloon Animals \nFood Trucks\nKoral Hamburg & Kate’s Cones \nSaturday\, September 20\n9 a.m. – 1:30 p.m. \nPetting Zoo \nFace Painting \nInflatables \nVendors \nConcert on the Lawn\n10:30-11:30 a.m. Napoleon Community Band \nChalk Art judging starts at noon. \n  \n 
URL:https://genacrosslutheranservices.org/event/art-on-the-street/2025-09-19/
LOCATION:Napoleon Campus\, 1036 S. Perry Street\, Napoleon\, OH\, 43545\, United States
CATEGORIES:Napoleon Campus
ATTACH;FMTTYPE=image/jpeg:https://genacrosslutheranservices.org/wp-content/uploads/2025/09/GLS-016-Art-Street_Social.jpg
END:VEVENT
BEGIN:VEVENT
DTSTART;TZID=America/New_York:20250920T090000
DTEND;TZID=America/New_York:20250920T133000
DTSTAMP:20260420T222302
CREATED:20250904T192009Z
LAST-MODIFIED:20250904T192413Z
UID:10000015-1758358800-1758375000@genacrosslutheranservices.org
SUMMARY:Art on the Street
DESCRIPTION:Art on the Street is a two-day event. \nFriday\, September 19\n9 a.m. – 3 p.m. \nChalk art begins ($5 per parking space) \nConcert on the Lawn\n10-11 a.m. Abbigale Abbot \nVendors \nSoaring Arts Studio \nBalloon Animals \nFood Trucks\nKoral Hamburg & Kate’s Cones \nSaturday\, September 20\n9 a.m. – 1:30 p.m. \nPetting Zoo \nFace Painting \nInflatables \nVendors \nConcert on the Lawn\n10:30-11:30 a.m. Napoleon Community Band \nChalk Art judging starts at noon. \n  \n 
URL:https://genacrosslutheranservices.org/event/art-on-the-street/2025-09-20/
LOCATION:Napoleon Campus\, 1036 S. Perry Street\, Napoleon\, OH\, 43545\, United States
CATEGORIES:Napoleon Campus
ATTACH;FMTTYPE=image/jpeg:https://genacrosslutheranservices.org/wp-content/uploads/2025/09/GLS-016-Art-Street_Social.jpg
END:VEVENT
END:VCALENDAR