BEGIN:VCALENDAR
VERSION:2.0
PRODID:-//Genacross Lutheran Services - ECPv6.15.17//NONSGML v1.0//EN
CALSCALE:GREGORIAN
METHOD:PUBLISH
X-WR-CALNAME:Genacross Lutheran Services
X-ORIGINAL-URL:https://genacrosslutheranservices.org
X-WR-CALDESC:Events for Genacross Lutheran Services
REFRESH-INTERVAL;VALUE=DURATION:PT1H
X-Robots-Tag:noindex
X-PUBLISHED-TTL:PT1H
BEGIN:VTIMEZONE
TZID:America/New_York
BEGIN:DAYLIGHT
TZOFFSETFROM:-0500
TZOFFSETTO:-0400
TZNAME:EDT
DTSTART:20230312T070000
END:DAYLIGHT
BEGIN:STANDARD
TZOFFSETFROM:-0400
TZOFFSETTO:-0500
TZNAME:EST
DTSTART:20231105T060000
END:STANDARD
BEGIN:DAYLIGHT
TZOFFSETFROM:-0500
TZOFFSETTO:-0400
TZNAME:EDT
DTSTART:20240310T070000
END:DAYLIGHT
BEGIN:STANDARD
TZOFFSETFROM:-0400
TZOFFSETTO:-0500
TZNAME:EST
DTSTART:20241103T060000
END:STANDARD
BEGIN:DAYLIGHT
TZOFFSETFROM:-0500
TZOFFSETTO:-0400
TZNAME:EDT
DTSTART:20250309T070000
END:DAYLIGHT
BEGIN:STANDARD
TZOFFSETFROM:-0400
TZOFFSETTO:-0500
TZNAME:EST
DTSTART:20251102T060000
END:STANDARD
END:VTIMEZONE
BEGIN:VEVENT
DTSTART;TZID=America/New_York:20241217T170000
DTEND;TZID=America/New_York:20241217T200000
DTSTAMP:20260423T031140
CREATED:20241206T204151Z
LAST-MODIFIED:20241209T140705Z
UID:10000009-1734454800-1734465600@genacrosslutheranservices.org
SUMMARY:Come See this Holiday Movie Classic on the Big Screen
DESCRIPTION:Genacross Lutheran Services & Maumee Chamber of Commerce Present:\n“Home Alone”\nFree Admission \nComplimentary Popcorn & Drink \nSANTA visits from 5-6pm \nMovie starts at 6pm \nRSVP by Monday\, December 16\, with number of attendees to GDougherty@Genacross.org or text 567.277.0503. \n  \n \n 
URL:https://genacrosslutheranservices.org/event/family-holiday-movie-night/
LOCATION:Maumee Indoor Theatre\, 601 Conant Street\, Maumee\, 43537\, United States
CATEGORIES:Napoleon Campus,Wolf Creek Campus
ATTACH;FMTTYPE=image/webp:https://genacrosslutheranservices.org/wp-content/uploads/2024/12/HolidayMovieNight-Event-Graphic.webp
END:VEVENT
END:VCALENDAR