BEGIN:VCALENDAR
VERSION:2.0
PRODID:-//Genacross Lutheran Services - ECPv6.15.17//NONSGML v1.0//EN
CALSCALE:GREGORIAN
METHOD:PUBLISH
X-WR-CALNAME:Genacross Lutheran Services
X-ORIGINAL-URL:https://genacrosslutheranservices.org
X-WR-CALDESC:Events for Genacross Lutheran Services
REFRESH-INTERVAL;VALUE=DURATION:PT1H
X-Robots-Tag:noindex
X-PUBLISHED-TTL:PT1H
BEGIN:VTIMEZONE
TZID:America/New_York
BEGIN:DAYLIGHT
TZOFFSETFROM:-0500
TZOFFSETTO:-0400
TZNAME:EDT
DTSTART:20230312T070000
END:DAYLIGHT
BEGIN:STANDARD
TZOFFSETFROM:-0400
TZOFFSETTO:-0500
TZNAME:EST
DTSTART:20231105T060000
END:STANDARD
BEGIN:DAYLIGHT
TZOFFSETFROM:-0500
TZOFFSETTO:-0400
TZNAME:EDT
DTSTART:20240310T070000
END:DAYLIGHT
BEGIN:STANDARD
TZOFFSETFROM:-0400
TZOFFSETTO:-0500
TZNAME:EST
DTSTART:20241103T060000
END:STANDARD
BEGIN:DAYLIGHT
TZOFFSETFROM:-0500
TZOFFSETTO:-0400
TZNAME:EDT
DTSTART:20250309T070000
END:DAYLIGHT
BEGIN:STANDARD
TZOFFSETFROM:-0400
TZOFFSETTO:-0500
TZNAME:EST
DTSTART:20251102T060000
END:STANDARD
END:VTIMEZONE
BEGIN:VEVENT
DTSTART;TZID=America/New_York:20241011T110000
DTEND;TZID=America/New_York:20241011T130000
DTSTAMP:20260423T130647
CREATED:20240923T130933Z
LAST-MODIFIED:20240925T152128Z
UID:10000006-1728644400-1728651600@genacrosslutheranservices.org
SUMMARY:Chili Cook-Off 2024
DESCRIPTION:Chili Cook-Off\n\nPublic and staff entries welcomed.\nGuest judges will recognize the best chili.\nPrizes will be awarded.\nAs a thank you\, Emergency Responders receive free lunch.\n\n$3 donation buys a chili flight.\nTry the winning chili! \n\n\n \nNAPOLEON CAMPUS CHAPEL \n1036 S. Perry Street\, Napoleon\, Ohio 435452001 \nQuestions? Call Joanna or Michelle at 419.591.4075. \nFlyer
URL:https://genacrosslutheranservices.org/event/chili-cook-off-2024/
LOCATION:Napoleon Campus\, 1036 S. Perry Street\, Napoleon\, OH\, 43545\, United States
CATEGORIES:Napoleon Campus
ATTACH;FMTTYPE=image/webp:https://genacrosslutheranservices.org/wp-content/uploads/2024/09/ChiliCookOffFlyer-2024.webp
END:VEVENT
END:VCALENDAR