BEGIN:VCALENDAR
VERSION:2.0
PRODID:-//Genacross Lutheran Services - ECPv6.15.17//NONSGML v1.0//EN
CALSCALE:GREGORIAN
METHOD:PUBLISH
X-ORIGINAL-URL:https://genacrosslutheranservices.org
X-WR-CALDESC:Events for Genacross Lutheran Services
REFRESH-INTERVAL;VALUE=DURATION:PT1H
X-Robots-Tag:noindex
X-PUBLISHED-TTL:PT1H
BEGIN:VTIMEZONE
TZID:America/New_York
BEGIN:DAYLIGHT
TZOFFSETFROM:-0500
TZOFFSETTO:-0400
TZNAME:EDT
DTSTART:20230312T070000
END:DAYLIGHT
BEGIN:STANDARD
TZOFFSETFROM:-0400
TZOFFSETTO:-0500
TZNAME:EST
DTSTART:20231105T060000
END:STANDARD
BEGIN:DAYLIGHT
TZOFFSETFROM:-0500
TZOFFSETTO:-0400
TZNAME:EDT
DTSTART:20240310T070000
END:DAYLIGHT
BEGIN:STANDARD
TZOFFSETFROM:-0400
TZOFFSETTO:-0500
TZNAME:EST
DTSTART:20241103T060000
END:STANDARD
BEGIN:DAYLIGHT
TZOFFSETFROM:-0500
TZOFFSETTO:-0400
TZNAME:EDT
DTSTART:20250309T070000
END:DAYLIGHT
BEGIN:STANDARD
TZOFFSETFROM:-0400
TZOFFSETTO:-0500
TZNAME:EST
DTSTART:20251102T060000
END:STANDARD
END:VTIMEZONE
BEGIN:VEVENT
DTSTART;TZID=America/New_York:20240926T163000
DTEND;TZID=America/New_York:20240926T200000
DTSTAMP:20260423T175942
CREATED:20240829T180045Z
LAST-MODIFIED:20240903T180328Z
UID:10000005-1727368200-1727380800@genacrosslutheranservices.org
SUMMARY:Fall Fest!
DESCRIPTION:Food\, Fun & more!\n\nGames\nChili cook-off\nFace Painting\nBounce House\nAnd more\n\nFor Residents\, Staff and their Families \n \nWOLF CREEK CAMPUS \n2001 Perrysburg Holland Road\, Holland\, Ohio \nFlyer
URL:https://genacrosslutheranservices.org/event/fall-fest/
LOCATION:Wolf Creek Campus\, 2001 Perrysburg Holland Road\, Holland\, OH\, 43528\, United States
CATEGORIES:Wolf Creek Campus
ATTACH;FMTTYPE=image/webp:https://genacrosslutheranservices.org/wp-content/uploads/2024/08/GLS-016-FallFestFlyer-2024.FA_.webp
END:VEVENT
END:VCALENDAR