BEGIN:VCALENDAR
VERSION:2.0
PRODID:-//Genacross Lutheran Services - ECPv6.15.17//NONSGML v1.0//EN
CALSCALE:GREGORIAN
METHOD:PUBLISH
X-ORIGINAL-URL:https://genacrosslutheranservices.org
X-WR-CALDESC:Events for Genacross Lutheran Services
REFRESH-INTERVAL;VALUE=DURATION:PT1H
X-Robots-Tag:noindex
X-PUBLISHED-TTL:PT1H
BEGIN:VTIMEZONE
TZID:America/New_York
BEGIN:DAYLIGHT
TZOFFSETFROM:-0500
TZOFFSETTO:-0400
TZNAME:EDT
DTSTART:20240310T070000
END:DAYLIGHT
BEGIN:STANDARD
TZOFFSETFROM:-0400
TZOFFSETTO:-0500
TZNAME:EST
DTSTART:20241103T060000
END:STANDARD
BEGIN:DAYLIGHT
TZOFFSETFROM:-0500
TZOFFSETTO:-0400
TZNAME:EDT
DTSTART:20250309T070000
END:DAYLIGHT
BEGIN:STANDARD
TZOFFSETFROM:-0400
TZOFFSETTO:-0500
TZNAME:EST
DTSTART:20251102T060000
END:STANDARD
BEGIN:DAYLIGHT
TZOFFSETFROM:-0500
TZOFFSETTO:-0400
TZNAME:EDT
DTSTART:20260308T070000
END:DAYLIGHT
BEGIN:STANDARD
TZOFFSETFROM:-0400
TZOFFSETTO:-0500
TZNAME:EST
DTSTART:20261101T060000
END:STANDARD
END:VTIMEZONE
BEGIN:VEVENT
DTSTART;TZID=America/New_York:20251010T110000
DTEND;TZID=America/New_York:20251010T130000
DTSTAMP:20260420T222439
CREATED:20251006T185217Z
LAST-MODIFIED:20251006T185445Z
UID:10000016-1760094000-1760101200@genacrosslutheranservices.org
SUMMARY:Chili Cook-Off 2025
DESCRIPTION:Chili Cook-Off\n\nPublic and staff entries welcomed.\nGuest judges will recognize the best chili.\nPrizes will be awarded.\nAs a thank you\, Emergency Responders receive free lunch.\n\n$3 donation buys a flight of chili tastings.\nTry the winning chili! \n\n\n \nNAPOLEON CAMPUS CHAPEL \n1036 S. Perry Street\, Napoleon\, Ohio 435452001 \nQuestions? Call Joanna at 419.591.4075.
URL:https://genacrosslutheranservices.org/event/chili-cook-off-2025/
LOCATION:Napoleon Campus\, 1036 S. Perry Street\, Napoleon\, OH\, 43545\, United States
CATEGORIES:Napoleon Campus
ATTACH;FMTTYPE=image/jpeg:https://genacrosslutheranservices.org/wp-content/uploads/2025/10/GLS-016-Chili-Cookoff-Social_FA.jpg
END:VEVENT
END:VCALENDAR